BEGIN:VCALENDAR
VERSION:2.0
PRODID:-//Edlio Inc//Edlio Calendar//EN
CALSCALE:GREGORIAN
METHOD:PUBLISH
X-WR-CALNAME:Nuuanu Elementary School - Upcoming Events
X-ORIGINAL-URL:https://www.nuuanu.k12.hi.us
X-WR-CALDESC:Events calendar for www.nuuanu.k12.hi.us
X-WR-TIMEZONE:US/Hawaii
REFRESH-INTERVAL;VALUE=DURATION:PT1H
X-Robots-Tag:noindex
X-PUBLISHED-TTL:PT1H
BEGIN:VTIMEZONE
TZID:US/Hawaii
BEGIN:STANDARD
TZOFFSETFROM:-1000
TZOFFSETTO:-1000
DTSTART:19700101T000000
END:STANDARD
END:VTIMEZONE
BEGIN:VTIMEZONE
TZID:US/East-Indiana
BEGIN:STANDARD
TZOFFSETFROM:-0500
TZOFFSETTO:-0500
DTSTART:19701025T020000
END:STANDARD
END:VTIMEZONE
BEGIN:VTIMEZONE
TZID:US/Eastern
BEGIN:STANDARD
TZOFFSETFROM:-0400
TZOFFSETTO:-0500
DTSTART:19701025T020000
RRULE:FREQ=YEARLY;BYMONTH=10;BYDAY=-1SU;UNTIL=20070311T020000
END:STANDARD
BEGIN:STANDARD
TZOFFSETFROM:-0400
TZOFFSETTO:-0500
DTSTART:20071104T020000
RRULE:FREQ=YEARLY;BYMONTH=11;BYDAY=1SU
END:STANDARD
BEGIN:DAYLIGHT
TZOFFSETFROM:-0500
TZOFFSETTO:-0400
DTSTART:19870405T020000
RRULE:FREQ=YEARLY;BYMONTH=4;BYDAY=1SU;UNTIL=20061029T020000
END:DAYLIGHT
BEGIN:DAYLIGHT
TZOFFSETFROM:-0500
TZOFFSETTO:-0400
DTSTART:20070311T020000
RRULE:FREQ=YEARLY;BYMONTH=3;BYDAY=2SU
END:DAYLIGHT
END:VTIMEZONE
BEGIN:VTIMEZONE
TZID:US/Michigan
BEGIN:STANDARD
TZOFFSETFROM:-0400
TZOFFSETTO:-0500
DTSTART:19701025T020000
RRULE:FREQ=YEARLY;BYMONTH=10;BYDAY=-1SU;UNTIL=20070311T020000
END:STANDARD
BEGIN:STANDARD
TZOFFSETFROM:-0400
TZOFFSETTO:-0500
DTSTART:20071104T020000
RRULE:FREQ=YEARLY;BYMONTH=11;BYDAY=1SU
END:STANDARD
BEGIN:DAYLIGHT
TZOFFSETFROM:-0500
TZOFFSETTO:-0400
DTSTART:19870405T020000
RRULE:FREQ=YEARLY;BYMONTH=4;BYDAY=1SU;UNTIL=20061029T020000
END:DAYLIGHT
BEGIN:DAYLIGHT
TZOFFSETFROM:-0500
TZOFFSETTO:-0400
DTSTART:20070311T020000
RRULE:FREQ=YEARLY;BYMONTH=3;BYDAY=2SU
END:DAYLIGHT
END:VTIMEZONE
BEGIN:VTIMEZONE
TZID:US/Central
BEGIN:STANDARD
TZOFFSETFROM:-0500
TZOFFSETTO:-0600
DTSTART:19701025T020000
RRULE:FREQ=YEARLY;BYMONTH=10;BYDAY=-1SU;UNTIL=20070311T020000
END:STANDARD
BEGIN:STANDARD
TZOFFSETFROM:-0500
TZOFFSETTO:-0600
DTSTART:20071104T020000
RRULE:FREQ=YEARLY;BYMONTH=11;BYDAY=1SU
END:STANDARD
BEGIN:DAYLIGHT
TZOFFSETFROM:-0600
TZOFFSETTO:-0500
DTSTART:19870405T020000
RRULE:FREQ=YEARLY;BYMONTH=4;BYDAY=1SU;UNTIL=20061029T020000
END:DAYLIGHT
BEGIN:DAYLIGHT
TZOFFSETFROM:-0600
TZOFFSETTO:-0500
DTSTART:20070311T020000
RRULE:FREQ=YEARLY;BYMONTH=3;BYDAY=2SU
END:DAYLIGHT
END:VTIMEZONE
BEGIN:VTIMEZONE
TZID:US/Mountain
BEGIN:STANDARD
TZOFFSETFROM:-0600
TZOFFSETTO:-0700
DTSTART:19701025T020000
RRULE:FREQ=YEARLY;BYMONTH=10;BYDAY=-1SU;UNTIL=20070311T020000
END:STANDARD
BEGIN:STANDARD
TZOFFSETFROM:-0600
TZOFFSETTO:-0700
DTSTART:20071104T020000
RRULE:FREQ=YEARLY;BYMONTH=11;BYDAY=1SU
END:STANDARD
BEGIN:DAYLIGHT
TZOFFSETFROM:-0700
TZOFFSETTO:-0600
DTSTART:19870405T020000
RRULE:FREQ=YEARLY;BYMONTH=4;BYDAY=1SU;UNTIL=20061029T020000
END:DAYLIGHT
BEGIN:DAYLIGHT
TZOFFSETFROM:-0700
TZOFFSETTO:-0600
DTSTART:20070311T020000
RRULE:FREQ=YEARLY;BYMONTH=3;BYDAY=2SU
END:DAYLIGHT
END:VTIMEZONE
BEGIN:VTIMEZONE
TZID:US/Arizona
BEGIN:STANDARD
TZOFFSETFROM:-0700
TZOFFSETTO:-0700
DTSTART:19701025T020000
END:STANDARD
END:VTIMEZONE
BEGIN:VTIMEZONE
TZID:US/Pacific
BEGIN:STANDARD
TZOFFSETFROM:-0700
TZOFFSETTO:-0800
DTSTART:19701025T020000
RRULE:FREQ=YEARLY;BYMONTH=10;BYDAY=-1SU;UNTIL=20070311T020000
END:STANDARD
BEGIN:STANDARD
TZOFFSETFROM:-0700
TZOFFSETTO:-0800
DTSTART:20071104T020000
RRULE:FREQ=YEARLY;BYMONTH=11;BYDAY=1SU
END:STANDARD
BEGIN:DAYLIGHT
TZOFFSETFROM:-0800
TZOFFSETTO:-0700
DTSTART:19870405T020000
RRULE:FREQ=YEARLY;BYMONTH=4;BYDAY=1SU;UNTIL=20061029T020000
END:DAYLIGHT
BEGIN:DAYLIGHT
TZOFFSETFROM:-0800
TZOFFSETTO:-0700
DTSTART:20070311T020000
RRULE:FREQ=YEARLY;BYMONTH=3;BYDAY=2SU
END:DAYLIGHT
END:VTIMEZONE
BEGIN:VTIMEZONE
TZID:US/Alaska
BEGIN:STANDARD
TZOFFSETFROM:-0800
TZOFFSETTO:-0900
DTSTART:19701025T020000
RRULE:FREQ=YEARLY;BYMONTH=10;BYDAY=-1SU;UNTIL=20070311T020000
END:STANDARD
BEGIN:STANDARD
TZOFFSETFROM:-0800
TZOFFSETTO:-0900
DTSTART:20071104T020000
RRULE:FREQ=YEARLY;BYMONTH=11;BYDAY=1SU
END:STANDARD
BEGIN:DAYLIGHT
TZOFFSETFROM:-0900
TZOFFSETTO:-0800
DTSTART:19870405T020000
RRULE:FREQ=YEARLY;BYMONTH=4;BYDAY=1SU;UNTIL=20061029T020000
END:DAYLIGHT
BEGIN:DAYLIGHT
TZOFFSETFROM:-0900
TZOFFSETTO:-0800
DTSTART:20070311T020000
RRULE:FREQ=YEARLY;BYMONTH=3;BYDAY=2SU
END:DAYLIGHT
END:VTIMEZONE
BEGIN:VTIMEZONE
TZID:US/Hawaii
BEGIN:STANDARD
TZOFFSETFROM:-1000
TZOFFSETTO:-1000
DTSTART:19701025T020000
END:STANDARD
END:VTIMEZONE
BEGIN:VTIMEZONE
TZID:US/Aleutian
BEGIN:STANDARD
TZOFFSETFROM:-1000
TZOFFSETTO:-1000
DTSTART:19701025T020000
END:STANDARD
END:VTIMEZONE
BEGIN:VTIMEZONE
TZID:US/Samoa
BEGIN:STANDARD
TZOFFSETFROM:-1100
TZOFFSETTO:-1100
DTSTART:19701025T020000
END:STANDARD
END:VTIMEZONE
BEGIN:VEVENT
UID:35902719@www.nuuanu.k12.hi.us#20260528
SEQUENCE:1
CREATED:20260116T235709Z
LAST-MODIFIED:20260116T235709Z
DTSTART;VALUE=DATE:20260528
DURATION:P1D
SUMMARY:Awards Assembly & Graduation
CATEGORIES:Upcoming Events
DESCRIPTION:TBA\n<a href=' https://www.nuuanu.k12.hi.us/apps/events/3590271
 9/'>Read more</a>
URL:https://www.nuuanu.k12.hi.us/apps/events/35902719/
ORGANIZER;CN="Edlio Calendar":MAILTO:noreply@www.nuuanu.k12.hi.us
DTSTAMP:20260423T082901Z
END:VEVENT
BEGIN:VEVENT
UID:35902681@www.nuuanu.k12.hi.us#20260313
SEQUENCE:0
CREATED:20260116T234926Z
LAST-MODIFIED:20260116T234926Z
DTSTART;VALUE=DATE:20260313
DURATION:P1D
SUMMARY:End of 3rd Quarter
CATEGORIES:Upcoming Events
URL:https://www.nuuanu.k12.hi.us/apps/events/35902681/
ORGANIZER;CN="Edlio Calendar":MAILTO:noreply@www.nuuanu.k12.hi.us
DTSTAMP:20260423T082901Z
END:VEVENT
BEGIN:VEVENT
UID:35902712@www.nuuanu.k12.hi.us#20260515
SEQUENCE:0
CREATED:20260116T235424Z
LAST-MODIFIED:20260116T235424Z
DTSTART;VALUE=DATE:20260515
DURATION:P1D
SUMMARY:Family Fun Night
CATEGORIES:Upcoming Events
DESCRIPTION:TBA\n<a href=' https://www.nuuanu.k12.hi.us/apps/events/3590271
 2/'>Read more</a>
URL:https://www.nuuanu.k12.hi.us/apps/events/35902712/
ORGANIZER;CN="Edlio Calendar":MAILTO:noreply@www.nuuanu.k12.hi.us
DTSTAMP:20260423T082901Z
END:VEVENT
BEGIN:VEVENT
UID:35902702@www.nuuanu.k12.hi.us#20260403
SEQUENCE:0
CREATED:20260116T235212Z
LAST-MODIFIED:20260116T235212Z
DTSTART;VALUE=DATE:20260403
DURATION:P1D
SUMMARY:Good Friday (No School)
CATEGORIES:Upcoming Events
URL:https://www.nuuanu.k12.hi.us/apps/events/35902702/
ORGANIZER;CN="Edlio Calendar":MAILTO:noreply@www.nuuanu.k12.hi.us
DTSTAMP:20260423T082901Z
END:VEVENT
BEGIN:VEVENT
UID:35902698@www.nuuanu.k12.hi.us#20260326
SEQUENCE:0
CREATED:20260116T235134Z
LAST-MODIFIED:20260116T235134Z
DTSTART;VALUE=DATE:20260326
DURATION:P1D
SUMMARY:Kuhio Day Observed (No School)
CATEGORIES:Upcoming Events
URL:https://www.nuuanu.k12.hi.us/apps/events/35902698/
ORGANIZER;CN="Edlio Calendar":MAILTO:noreply@www.nuuanu.k12.hi.us
DTSTAMP:20260423T082901Z
END:VEVENT
BEGIN:VEVENT
UID:35902724@www.nuuanu.k12.hi.us#20260528
SEQUENCE:0
CREATED:20260116T235653Z
LAST-MODIFIED:20260116T235653Z
DTSTART;VALUE=DATE:20260528
DURATION:P1D
SUMMARY:Last Day for Students
CATEGORIES:Upcoming Events
URL:https://www.nuuanu.k12.hi.us/apps/events/35902724/
ORGANIZER;CN="Edlio Calendar":MAILTO:noreply@www.nuuanu.k12.hi.us
DTSTAMP:20260423T082901Z
END:VEVENT
BEGIN:VEVENT
UID:35902730@www.nuuanu.k12.hi.us#20260529
SEQUENCE:0
CREATED:20260116T235752Z
LAST-MODIFIED:20260116T235752Z
DTSTART;VALUE=DATE:20260529
DURATION:P1D
SUMMARY:Last Day for Teachers
CATEGORIES:Upcoming Events
URL:https://www.nuuanu.k12.hi.us/apps/events/35902730/
ORGANIZER;CN="Edlio Calendar":MAILTO:noreply@www.nuuanu.k12.hi.us
DTSTAMP:20260423T082901Z
END:VEVENT
BEGIN:VEVENT
UID:35902704@www.nuuanu.k12.hi.us#20260501
SEQUENCE:0
CREATED:20260116T235323Z
LAST-MODIFIED:20260116T235323Z
DTSTART;VALUE=DATE:20260501
DURATION:P1D
SUMMARY:May Day
CATEGORIES:Upcoming Events
DESCRIPTION:TBA\n<a href=' https://www.nuuanu.k12.hi.us/apps/events/3590270
 4/'>Read more</a>
URL:https://www.nuuanu.k12.hi.us/apps/events/35902704/
ORGANIZER;CN="Edlio Calendar":MAILTO:noreply@www.nuuanu.k12.hi.us
DTSTAMP:20260423T082901Z
END:VEVENT
BEGIN:VEVENT
UID:35902715@www.nuuanu.k12.hi.us#20260525
SEQUENCE:0
CREATED:20260116T235517Z
LAST-MODIFIED:20260116T235517Z
DTSTART;VALUE=DATE:20260525
DURATION:P1D
SUMMARY:Memorial Day Observed (No School)
CATEGORIES:Upcoming Events
URL:https://www.nuuanu.k12.hi.us/apps/events/35902715/
ORGANIZER;CN="Edlio Calendar":MAILTO:noreply@www.nuuanu.k12.hi.us
DTSTAMP:20260423T082901Z
END:VEVENT
BEGIN:VEVENT
UID:35916049@www.nuuanu.k12.hi.us#20260213
SEQUENCE:4
CREATED:20260212T203931Z
LAST-MODIFIED:20260212T203931Z
DTSTART;VALUE=DATE:20260213
DURATION:P1D
SUMMARY:No school - Teacher Institute Day (Rescheduled)
CATEGORIES:Upcoming Events
DESCRIPTION:\nhttps://thegreatkindnesschallenge.com/wp-content/uploads/2022
 /01/GKC-Checklist-FE-English-2022.pdf\n<a href=' https://www.nuuanu.k12.hi
 .us/apps/events/35916049/'>Read more</a>
URL:https://www.nuuanu.k12.hi.us/apps/events/35916049/
ORGANIZER;CN="Edlio Calendar":MAILTO:noreply@www.nuuanu.k12.hi.us
DTSTAMP:20260423T082901Z
END:VEVENT
BEGIN:VEVENT
UID:35902660@www.nuuanu.k12.hi.us#20260216
SEQUENCE:1
CREATED:20260116T235926Z
LAST-MODIFIED:20260116T235926Z
DTSTART;VALUE=DATE:20260216
DURATION:P1D
SUMMARY:Presidents' Day (No School)
CATEGORIES:Upcoming Events
URL:https://www.nuuanu.k12.hi.us/apps/events/35902660/
ORGANIZER;CN="Edlio Calendar":MAILTO:noreply@www.nuuanu.k12.hi.us
DTSTAMP:20260423T082901Z
END:VEVENT
BEGIN:VEVENT
UID:35902657@www.nuuanu.k12.hi.us#20260209
SEQUENCE:1
CREATED:20260212T203632Z
LAST-MODIFIED:20260212T203632Z
DTSTART;VALUE=DATE:20260209
DURATION:P1D
SUMMARY:School closed due to weather.
CATEGORIES:Upcoming Events
URL:https://www.nuuanu.k12.hi.us/apps/events/35902657/
ORGANIZER;CN="Edlio Calendar":MAILTO:noreply@www.nuuanu.k12.hi.us
DTSTAMP:20260423T082901Z
END:VEVENT
BEGIN:VEVENT
UID:36079036@www.nuuanu.k12.hi.us#20260311
SEQUENCE:4
CREATED:20260228T030216Z
LAST-MODIFIED:20260228T030216Z
DTSTART;VALUE=DATE:20260311
DURATION:P1D
SUMMARY:Spirit Week - Black Out Day!
CATEGORIES:Upcoming Events
DESCRIPTION:Dress up in black and let's turn up the energy!\n<a href=' http
 s://www.nuuanu.k12.hi.us/apps/events/36079036/'>Read more</a>
URL:https://www.nuuanu.k12.hi.us/apps/events/36079036/
ORGANIZER;CN="Edlio Calendar":MAILTO:noreply@www.nuuanu.k12.hi.us
DTSTAMP:20260423T082901Z
END:VEVENT
BEGIN:VEVENT
UID:36079032@www.nuuanu.k12.hi.us#20260310
SEQUENCE:2
CREATED:20260228T030154Z
LAST-MODIFIED:20260228T030154Z
DTSTART;VALUE=DATE:20260310
DURATION:P1D
SUMMARY:Spirit Week - Character Dress Up Day!
CATEGORIES:Upcoming Events
DESCRIPTION:Dress up as your favorite character!\n<a href=' https://www.nuu
 anu.k12.hi.us/apps/events/36079032/'>Read more</a>
URL:https://www.nuuanu.k12.hi.us/apps/events/36079032/
ORGANIZER;CN="Edlio Calendar":MAILTO:noreply@www.nuuanu.k12.hi.us
DTSTAMP:20260423T082901Z
END:VEVENT
BEGIN:VEVENT
UID:36079039@www.nuuanu.k12.hi.us#20260312
SEQUENCE:2
CREATED:20260228T030240Z
LAST-MODIFIED:20260228T030240Z
DTSTART;VALUE=DATE:20260312
DURATION:P1D
SUMMARY:Spirit Week - Color Battle!  
CATEGORIES:Upcoming Events
DESCRIPTION:Dress in your assigned grade level color and represent your gra
 de!  <br>K - Purple <br>1 - Green <br>2 - Orange <br>3 - Yellow <br>4 - Bl
 ue <br>5 - Red\n<a href=' https://www.nuuanu.k12.hi.us/apps/events/3607903
 9/'>Read more</a>
URL:https://www.nuuanu.k12.hi.us/apps/events/36079039/
ORGANIZER;CN="Edlio Calendar":MAILTO:noreply@www.nuuanu.k12.hi.us
DTSTAMP:20260423T082901Z
END:VEVENT
BEGIN:VEVENT
UID:36079044@www.nuuanu.k12.hi.us#20260313
SEQUENCE:2
CREATED:20260228T030254Z
LAST-MODIFIED:20260228T030254Z
DTSTART;VALUE=DATE:20260313
DURATION:P1D
SUMMARY:Spirit Week - Nu'uanu Pride Day!  
CATEGORIES:Upcoming Events
DESCRIPTION:Show you school spirit by wearing school shirt or dressing in g
 reen or white!\n<a href=' https://www.nuuanu.k12.hi.us/apps/events/3607904
 4/'>Read more</a>
URL:https://www.nuuanu.k12.hi.us/apps/events/36079044/
ORGANIZER;CN="Edlio Calendar":MAILTO:noreply@www.nuuanu.k12.hi.us
DTSTAMP:20260423T082901Z
END:VEVENT
BEGIN:VEVENT
UID:35902672@www.nuuanu.k12.hi.us#20260309
SEQUENCE:5
CREATED:20260228T030115Z
LAST-MODIFIED:20260228T030115Z
DTSTART;VALUE=DATE:20260309
DURATION:P1D
SUMMARY:Spirit Week - Sports Day!
CATEGORIES:Upcoming Events
DESCRIPTION:Represent your favorite team or wear you sports uniform!\n<a hr
 ef=' https://www.nuuanu.k12.hi.us/apps/events/35902672/'>Read more</a>
URL:https://www.nuuanu.k12.hi.us/apps/events/35902672/
ORGANIZER;CN="Edlio Calendar":MAILTO:noreply@www.nuuanu.k12.hi.us
DTSTAMP:20260423T082901Z
END:VEVENT
BEGIN:VEVENT
UID:35902689@www.nuuanu.k12.hi.us#20260316
SEQUENCE:0
CREATED:20260116T235038Z
LAST-MODIFIED:20260116T235038Z
DTSTART;VALUE=DATE:20260316
DURATION:P1D
RRULE:FREQ=DAILY;COUNT=5;WKST=SU
SUMMARY:Spring Break (No School)
CATEGORIES:Upcoming Events
URL:https://www.nuuanu.k12.hi.us/apps/events/35902689/
ORGANIZER;CN="Edlio Calendar":MAILTO:noreply@www.nuuanu.k12.hi.us
DTSTAMP:20260423T082901Z
END:VEVENT
BEGIN:VEVENT
UID:35916057@www.nuuanu.k12.hi.us#20260212
SEQUENCE:2
CREATED:20260212T203654Z
LAST-MODIFIED:20260212T203654Z
DTSTART;VALUE=DATE:20260212
DURATION:P1D
SUMMARY:Wear Red Today to Celebrate Kindness Week
CATEGORIES:Upcoming Events
URL:https://www.nuuanu.k12.hi.us/apps/events/35916057/
ORGANIZER;CN="Edlio Calendar":MAILTO:noreply@www.nuuanu.k12.hi.us
DTSTAMP:20260423T082901Z
END:VEVENT
BEGIN:VEVENT
UID:35916064@www.nuuanu.k12.hi.us#20260212
SEQUENCE:1
CREATED:20260212T203713Z
LAST-MODIFIED:20260212T203713Z
DTSTART;TZID=US/Hawaii:20260212T070000
DTEND;TZID=US/Hawaii:20260212T080000
SUMMARY:Food Drive for the Hawai'i Foodbank Sponsored by the Student Counci
 l
LOCATION:Circle Driveway
CATEGORIES:Upcoming Events
DESCRIPTION:\nhttps://drive.google.com/file/d/1ziS1gQ4cY16YoMa3-fu25KMR7WSu
 ZF0U/view?usp=sharing\n<a href=' https://www.nuuanu.k12.hi.us/apps/events/
 35916064/'>Read more</a>
URL:https://www.nuuanu.k12.hi.us/apps/events/35916064/
ORGANIZER;CN="Edlio Calendar":MAILTO:noreply@www.nuuanu.k12.hi.us
DTSTAMP:20260423T082901Z
END:VEVENT
BEGIN:VEVENT
UID:35902633@www.nuuanu.k12.hi.us#20260217
SEQUENCE:1
CREATED:20260116T234130Z
LAST-MODIFIED:20260116T234130Z
DTSTART;TZID=US/Hawaii:20260217T081500
DTEND;TZID=US/Hawaii:20260217T084500
SUMMARY:Chinese New Year Lion Dance
LOCATION:Gym
CATEGORIES:Upcoming Events
URL:https://www.nuuanu.k12.hi.us/apps/events/35902633/
ORGANIZER;CN="Edlio Calendar":MAILTO:noreply@www.nuuanu.k12.hi.us
DTSTAMP:20260423T082901Z
END:VEVENT
BEGIN:VEVENT
UID:35916042@www.nuuanu.k12.hi.us#20260212
SEQUENCE:1
CREATED:20260212T203742Z
LAST-MODIFIED:20260212T203742Z
DTSTART;TZID=US/Hawaii:20260212T141500
DTEND;TZID=US/Hawaii:20260212T163000
SUMMARY:Aikane’s Almond Cookie and Chex Mix Fundraiser Pickup
LOCATION:Gym
CATEGORIES:Upcoming Events
DESCRIPTION:\nhttps://www.zeffy.com/en-US/ticketing/aikane-o-nuuanu-almond-
 cookie-and-chex-mix-pre-sale\n<a href=' https://www.nuuanu.k12.hi.us/apps/
 events/35916042/'>Read more</a>
URL:https://www.nuuanu.k12.hi.us/apps/events/35916042/
ORGANIZER;CN="Edlio Calendar":MAILTO:noreply@www.nuuanu.k12.hi.us
DTSTAMP:20260423T082901Z
END:VEVENT
BEGIN:VEVENT
UID:38616466@www.nuuanu.k12.hi.us#20260331
SEQUENCE:0
CREATED:20260328T024833Z
LAST-MODIFIED:20260328T024833Z
DTSTART;TZID=US/Hawaii:20260331T144000
DTEND;TZID=US/Hawaii:20260331T153000
SUMMARY:Virtual SCC Meeting 
LOCATION:Webex Meeting
CATEGORIES:Upcoming Events
DESCRIPTION:<div><a target=_blank href="https://drive.google.com/file/d/1W4
 flCIBiYulwtr_-c1F9cNDjAvZGAAah/view?usp=sharing">Agenda&nbsp\;</a></div> \
 n<a href=' https://www.nuuanu.k12.hi.us/apps/events/38616466/'>Read more</
 a>
URL:https://www.nuuanu.k12.hi.us/apps/events/38616466/
ORGANIZER;CN="Edlio Calendar":MAILTO:noreply@www.nuuanu.k12.hi.us
DTSTAMP:20260423T082901Z
END:VEVENT
END:VCALENDAR
